BEGIN:VCALENDAR
VERSION:2.0
PRODID:-//Iglesia Roca Firme - ECPv6.15.20//NONSGML v1.0//EN
CALSCALE:GREGORIAN
METHOD:PUBLISH
X-WR-CALNAME:Iglesia Roca Firme
X-ORIGINAL-URL:https://iglesiarocafirme.com
X-WR-CALDESC:Events for Iglesia Roca Firme
REFRESH-INTERVAL;VALUE=DURATION:PT1H
X-Robots-Tag:noindex
X-PUBLISHED-TTL:PT1H
BEGIN:VTIMEZONE
TZID:America/Los_Angeles
BEGIN:DAYLIGHT
TZOFFSETFROM:-0800
TZOFFSETTO:-0700
TZNAME:PDT
DTSTART:20240310T100000
END:DAYLIGHT
BEGIN:STANDARD
TZOFFSETFROM:-0700
TZOFFSETTO:-0800
TZNAME:PST
DTSTART:20241103T090000
END:STANDARD
BEGIN:DAYLIGHT
TZOFFSETFROM:-0800
TZOFFSETTO:-0700
TZNAME:PDT
DTSTART:20250309T100000
END:DAYLIGHT
BEGIN:STANDARD
TZOFFSETFROM:-0700
TZOFFSETTO:-0800
TZNAME:PST
DTSTART:20251102T090000
END:STANDARD
BEGIN:DAYLIGHT
TZOFFSETFROM:-0800
TZOFFSETTO:-0700
TZNAME:PDT
DTSTART:20260308T100000
END:DAYLIGHT
BEGIN:STANDARD
TZOFFSETFROM:-0700
TZOFFSETTO:-0800
TZNAME:PST
DTSTART:20261101T090000
END:STANDARD
END:VTIMEZONE
BEGIN:VEVENT
DTSTART;TZID=America/Los_Angeles:20250613T173000
DTEND;TZID=America/Los_Angeles:20250614T170000
DTSTAMP:20260425T070307
CREATED:20250519T205102Z
LAST-MODIFIED:20250519T205102Z
UID:249984-1749835800-1749920400@iglesiarocafirme.com
SUMMARY:Congreso de Juniors
DESCRIPTION:
URL:https://iglesiarocafirme.com/event/congreso-de-juniors/
LOCATION:Iglesia Roca Firma\, 47 Still Road\, Watsonville\, CA\, 95077\, United States
ATTACH;FMTTYPE=image/png:https://iglesiarocafirme.com/wp-content/uploads/2025/05/Yellow-and-White-Modern-Finance-Webinar-Promotion-Instagram-Post-Real-Estate-Flyer.png
ORGANIZER;CN="Iglesia Roca Firme":MAILTO:office@iglesiarocafirme.com
END:VEVENT
BEGIN:VEVENT
DTSTART;TZID=America/Los_Angeles:20250622T110000
DTEND;TZID=America/Los_Angeles:20250622T140000
DTSTAMP:20260425T070307
CREATED:20250521T014654Z
LAST-MODIFIED:20260306T231621Z
UID:249988-1750590000-1750600800@iglesiarocafirme.com
SUMMARY:Servicio de Rayitos (Magnified)
DESCRIPTION:
URL:https://iglesiarocafirme.com/event/servicio-de-rayitos/
LOCATION:Iglesia Roca Firma\, 47 Still Road\, Watsonville\, CA\, 95077\, United States
ATTACH;FMTTYPE=image/jpeg:https://iglesiarocafirme.com/wp-content/uploads/2025/05/IMG_1207.jpeg
ORGANIZER;CN="Iglesia Roca Firme":MAILTO:office@iglesiarocafirme.com
END:VEVENT
END:VCALENDAR