BEGIN:VCALENDAR
VERSION:2.0
PRODID:-//Iglesia Roca Firme - ECPv6.15.20//NONSGML v1.0//EN
CALSCALE:GREGORIAN
METHOD:PUBLISH
X-WR-CALNAME:Iglesia Roca Firme
X-ORIGINAL-URL:https://iglesiarocafirme.com
X-WR-CALDESC:Events for Iglesia Roca Firme
REFRESH-INTERVAL;VALUE=DURATION:PT1H
X-Robots-Tag:noindex
X-PUBLISHED-TTL:PT1H
BEGIN:VTIMEZONE
TZID:America/Los_Angeles
BEGIN:DAYLIGHT
TZOFFSETFROM:-0800
TZOFFSETTO:-0700
TZNAME:PDT
DTSTART:20250309T100000
END:DAYLIGHT
BEGIN:STANDARD
TZOFFSETFROM:-0700
TZOFFSETTO:-0800
TZNAME:PST
DTSTART:20251102T090000
END:STANDARD
BEGIN:DAYLIGHT
TZOFFSETFROM:-0800
TZOFFSETTO:-0700
TZNAME:PDT
DTSTART:20260308T100000
END:DAYLIGHT
BEGIN:STANDARD
TZOFFSETFROM:-0700
TZOFFSETTO:-0800
TZNAME:PST
DTSTART:20261101T090000
END:STANDARD
BEGIN:DAYLIGHT
TZOFFSETFROM:-0800
TZOFFSETTO:-0700
TZNAME:PDT
DTSTART:20270314T100000
END:DAYLIGHT
BEGIN:STANDARD
TZOFFSETFROM:-0700
TZOFFSETTO:-0800
TZNAME:PST
DTSTART:20271107T090000
END:STANDARD
END:VTIMEZONE
BEGIN:VEVENT
DTSTART;TZID=America/Los_Angeles:20260426T110000
DTEND;TZID=America/Los_Angeles:20260426T140000
DTSTAMP:20260422T155057
CREATED:20260319T050257Z
LAST-MODIFIED:20260319T050705Z
UID:250118-1777201200-1777212000@iglesiarocafirme.com
SUMMARY:House to House Ministry: Friend's Day 2026
DESCRIPTION:We invite you to our Friend Day at Solid Rock Church! A special day of friendship\, food\, games\, and most of all.. a message of hope. Bring your friends and let’s celebrate together! All are welcome. \nWe will have refreshments\, games\, donation of clothes\, and a mobile clinic to attend basic needs! \n 
URL:https://iglesiarocafirme.com/event/house-to-house-ministry-friends-day-2026-the-king-has-sent-for-you/
LOCATION:Iglesia Roca Firma\, 47 Still Road\, Watsonville\, CA\, 95077\, United States
ATTACH;FMTTYPE=image/jpeg:https://iglesiarocafirme.com/wp-content/uploads/2026/03/IMG_7717.jpg
ORGANIZER;CN="Iglesia Roca Firme":MAILTO:office@iglesiarocafirme.com
END:VEVENT
BEGIN:VEVENT
DTSTART;VALUE=DATE:20260522
DTEND;VALUE=DATE:20260525
DTSTAMP:20260422T155057
CREATED:20260306T231012Z
LAST-MODIFIED:20260325T040324Z
UID:250037-1779408000-1779667199@iglesiarocafirme.com
SUMMARY:Campamento Femenil: Hefzibá Mi Deleite Está en Ella
DESCRIPTION:REGISTRACIONES ABIERTAS \n“Mí deleite está en Ella” \nTe invitamos a ser parte de HEFZIBÁ — Campamento Femenil\, un tiempo especial apartado para renovar el corazón\, fortalecer la fe y disfrutar de la presencia de Dios junto a otras mujeres.\n\n\n Un fin de semana para descansar\, sanar y crecer espiritualmente.\n Un espacio diseñado para ti.\n Un encuentro donde Dios hablará a tu vida.\n Mayo 22\, 23 y 24\n Koinonia Conference Grounds\, Watsonville\, CA\n\n\nLos espacios son limitados\, ¡asegura tu lugar hoy!\n Para información y registro\, comunícate con los números en el flyer.
URL:https://iglesiarocafirme.com/event/campamento-femenil-hefziba-mi-deleite-esta-en-ella/
LOCATION:koinonia\, 1605 Eureka canyon Road\, Watsonville\, 95076
ATTACH;FMTTYPE=image/jpeg:https://iglesiarocafirme.com/wp-content/uploads/2026/03/634426009_1333036925525277_8391963502242588427_n.jpg
ORGANIZER;CN="Iglesia Roca Firme":MAILTO:office@iglesiarocafirme.com
END:VEVENT
END:VCALENDAR